BEGIN:VCALENDAR
VERSION:2.0
PRODID:icalendar-ruby
CALSCALE:GREGORIAN
X-WR-TIMEZONE:Europe/Helsinki
BEGIN:VTIMEZONE
TZID:Europe/Helsinki
BEGIN:DAYLIGHT
DTSTART:20260329T040000
TZOFFSETFROM:+0200
TZOFFSETTO:+0300
RRULE:FREQ=YEARLY;BYDAY=-1SU;BYMONTH=3
TZNAME:EEST
END:DAYLIGHT
BEGIN:STANDARD
DTSTART:20261025T030000
TZOFFSETFROM:+0300
TZOFFSETTO:+0200
RRULE:FREQ=YEARLY;BYDAY=-1SU;BYMONTH=10
TZNAME:EET
END:STANDARD
END:VTIMEZONE
BEGIN:VEVENT
DTSTAMP:20260420T115953
UID:nops.myclub.fi-10516111
DTSTART;TZID=Europe/Helsinki:20260422T173000
DTEND;TZID=Europe/Helsinki:20260422T203000
DESCRIPTION:Pelinohjaajakoulutus Nokian Palloseuran toimistolla 22.4.2026 k
 lo 17:30. Koulutus on suunnattu yli 13-vuotiaille\, joten tänä vuonna os
 allistua saa 2013-syntyneet. Koulutuksen kesto noin kolme tuntia.  Koulutu
 s järjestetään yhdessä FC Nokian kanssa. Kouluttajana toimii Jere Hola
 ppa. Lisätiedo ja peruutusilmoitukset: jalkapallo@nops.fi  SPL tiedote ko
 ulutukseen osallistuville. Pelinohjaajakoulutuksen käyneistä henkilöist
 ä kerätään vuosittain tilastoja ja yli 15-vuotiaille voidaan mainostaa
  peruskoulutuksia. Henkilötietoja käsitellään Palloliiton tietosuojase
 losteen mukaisesti. Järjestävä seura ilmoittaa Palloliitolle osallistuj
 ien etunimen\, sukunimen\, kotipaikan\, syntymävuoden\, puhelinnumeron ja
  sähköpostiosoitteen.  Mikäli koulutukseen osallistuu henkilö\, jonka 
 yhteystietoja ei saa hyödyntää erotuomarikoulusten mainostamisessa\, tu
 lee heidän osaltaan jättää ilmoittamatta puhelinnumero sekä sähköpo
 stiosoite.\n\nhttps://nops.myclub.fi/flow/events/10516111
LOCATION:NoPS toimisto\, Kauppakatu 1-3\, LH 6\, 37100 Nokia
SEQUENCE:0
SUMMARY:Jalkapallo: Pelinohjaajakoulutus 2026
URL;VALUE=URI:https://nops.myclub.fi/flow/events/10516111
END:VEVENT
END:VCALENDAR
